BEGIN:VCALENDAR
VERSION:2.0
PRODID:-//Squarespace Inc/Squarespace 6//v6//EN
BEGIN:VEVENT
UID:592ba081e4fcb57df0ae93da@squarespace.com
DTSTAMP:20170529T041848Z
DTSTART:20170601T060000Z
DTEND:20170601T080000Z
SUMMARY:Adult Dodgeball (16+)
GEO:-41.324609;174.800829
LOCATION:Uptown Bounce Wellington\, 22 Kingsford Smith Street\, Wellington\
 , Wellington\, 6022\, New Zealand
END:VEVENT
END:VCALENDAR
