BEGIN:VCALENDAR
VERSION:2.0
PRODID:-//Squarespace Inc/Squarespace 6//v6//EN
BEGIN:VEVENT
UID:592b9e33e3df282718ef6026@squarespace.com
DTSTAMP:20170529T041907Z
DTSTART:20170530T060000Z
DTEND:20170530T080000Z
SUMMARY:All Ages Dodgeball
GEO:-41.324609;174.800829
LOCATION:Uptown Bounce Wellington\, 22 Kingsford Smith Street\, Wellington\
 , Wellington\, 6022\, New Zealand
END:VEVENT
END:VCALENDAR
