BEGIN:VCALENDAR
VERSION:2.0
PRODID:-//Squarespace Inc/Squarespace 6//v6//EN
BEGIN:VEVENT
UID:587eb1e0c534a53e95ad74e8@squarespace.com
DTSTAMP:20170118T001914Z
DTSTART:20170118T003000Z
DTEND:20170118T013000Z
SUMMARY:Bounce Fitness Grey Lynn
GEO:-36.86431;174.737559
LOCATION:Uptown Bounce Grey Lynn\, 565 Great North Road\, Grey Lynn\, Auckl
 and\, 1021\, New Zealand
END:VEVENT
END:VCALENDAR
