BEGIN:VCALENDAR
VERSION:2.0
PRODID:-//Squarespace Inc/Squarespace 6//v6//EN
BEGIN:VEVENT
UID:587d2731e6f2e19533130727@squarespace.com
DTSTAMP:20170118T002429Z
DTSTART:20170131T233000Z
DTEND:20170201T001500Z
SUMMARY:Bounce Fitness Grey Lynn
GEO:-36.86431;174.737559
LOCATION:Uptown Bounce Grey Lynn\, 565 Great North Road\, Auckland\, Auckla
 nd\, 1021\, New Zealand
END:VEVENT
END:VCALENDAR
