BEGIN:VCALENDAR
VERSION:2.0
PRODID:-//Squarespace Inc/Squarespace 6//v6//EN
BEGIN:VEVENT
UID:587d7f8f20099efd7ce8ba45@squarespace.com
DTSTAMP:20170117T234311Z
DTSTART:20170118T233000Z
DTEND:20170119T001500Z
SUMMARY:Bounce Fitness Grey Lynn
GEO:-36.86431;174.737559
LOCATION:Uptown Bounce Grey Lynn\, 565 Great North Road\, Auckland\, Auckla
 nd\, 1021\, New Zealand
END:VEVENT
END:VCALENDAR
