BEGIN:VCALENDAR
VERSION:2.0
PRODID:-//Squarespace Inc/Squarespace 6//v6//EN
BEGIN:VEVENT
UID:587ea40c197aea1c1d670741@squarespace.com
DTSTAMP:20170117T234957Z
DTSTART:20170125T233000Z
DTEND:20170126T001500Z
SUMMARY:Bounce Fitness Grey Lynn
GEO:-36.86431;174.737559
LOCATION:Uptown Bounce Grey Lynn\, 565 Great North Road\, Grey Lynn\, Auckl
 and\, 1021\, New Zealand
END:VEVENT
END:VCALENDAR
