BEGIN:VCALENDAR
VERSION:2.0
PRODID:-//Squarespace Inc/Squarespace 6//v6//EN
BEGIN:VEVENT
UID:588e960103596e0fcbca6933@squarespace.com
DTSTAMP:20170130T012709Z
DTSTART:20170214T000000Z
DTEND:20170214T004500Z
SUMMARY:Uptown Bounce Avondale
GEO:-36.883999;174.675957
LOCATION:Uptown Bounce Avondale\, 52 Fremlin Place\, Avondale\, Auckland\, 
 1026\, New Zealand
END:VEVENT
END:VCALENDAR
