BEGIN:VCALENDAR
VERSION:2.0
PRODID:-//Squarespace Inc/Squarespace 6//v6//EN
BEGIN:VEVENT
UID:588e9934f5e231b9aa59974a@squarespace.com
DTSTAMP:20170130T014131Z
DTSTART:20170218T140000Z
DTEND:20170218T144500Z
SUMMARY:Bounce Fitness Avondale
GEO:-36.883999;174.675957
LOCATION:Uptown Bounce Avondale\, 52 Fremlin Place\, Avondale\, Auckland\, 
 1026\, New Zealand
END:VEVENT
END:VCALENDAR
