BEGIN:VCALENDAR
VERSION:2.0
PRODID:-//Squarespace Inc/Squarespace 6//v6//EN
BEGIN:VEVENT
UID:58857783ff7c50565790715c@squarespace.com
DTSTAMP:20170123T033329Z
DTSTART:20170201T233000Z
DTEND:20170202T001500Z
SUMMARY:Bounce Fitness Grey Lynn
GEO:-36.86431;174.737559
LOCATION:Uptown Bounce Grey Lynn\, 565 Great North Road\, Grey Lynn\, Auckl
 and\, 1021\, New Zealand
END:VEVENT
END:VCALENDAR
