BEGIN:VCALENDAR
VERSION:2.0
PRODID:-//Squarespace Inc/Squarespace 6//v6//EN
BEGIN:VEVENT
UID:588e99e4b3db2b428d95efc6@squarespace.com
DTSTAMP:20170130T014336Z
DTSTART:20170221T000000Z
DTEND:20170221T004500Z
SUMMARY:Bounce Fitness Avondale
GEO:-36.883844;174.684522
LOCATION:Uptown Bounce Avondale\, 52 Fremlin Place\, Grey Lynn\, Auckland\, 
 1026\, New Zealand
END:VEVENT
END:VCALENDAR
