BEGIN:VCALENDAR
VERSION:2.0
PRODID:-//Squarespace Inc/Squarespace 6//v6//EN
BEGIN:VEVENT
UID:588e9a531b10e309aef195a9@squarespace.com
DTSTAMP:20170130T014539Z
DTSTART:20170221T233000Z
DTEND:20170222T001500Z
SUMMARY:Bounce Fitness Grey Lynn
GEO:-36.863986;174.734128
LOCATION:Uptown Bounce Grey Lynn\, 565 Great North Road\, Avondale\, Auckla
 nd\, 1021\, New Zealand
END:VEVENT
END:VCALENDAR
