BEGIN:VCALENDAR
VERSION:2.0
PRODID:-//Squarespace Inc/Squarespace 6//v6//EN
BEGIN:VEVENT
UID:588e9b70579fb35be4fc521a@squarespace.com
DTSTAMP:20170430T020225Z
DTSTART:20170503T063000Z
DTEND:20170503T071500Z
SUMMARY:Bounce Fitness Grey Lynn
GEO:-36.86431;174.737559
LOCATION:Uptown Bounce Grey Lynn\, 565 Great North Road\, Grey Lynn\, Auckl
 and\, 1021\, New Zealand
END:VEVENT
END:VCALENDAR
