BEGIN:VCALENDAR
VERSION:2.0
PRODID:-//Squarespace Inc/Squarespace 6//v6//EN
BEGIN:VEVENT
UID:58857a6b725e25a578ced212@squarespace.com
DTSTAMP:20170123T033903Z
DTSTART:20170204T140000Z
DTEND:20170204T144500Z
SUMMARY:Bounce Fitness Avondale
GEO:-36.883999;174.675957
LOCATION:Uptown Bounce Avondale\, 52 Fremlin Place\, Avondale\, Auckland\, 
 1026\, New Zealand
END:VEVENT
END:VCALENDAR
