BEGIN:VCALENDAR
VERSION:2.0
PRODID:-//Squarespace Inc/Squarespace 6//v6//EN
BEGIN:VEVENT
UID:588e923d1b10e309aef12e5b@squarespace.com
DTSTAMP:20170130T012014Z
DTSTART:20170207T000000Z
DTEND:20170207T004500Z
SUMMARY:Bounce Fitness Avondale
GEO:-36.883999;174.675957
LOCATION:Uptown Bounce Grey Lynn\, 52 Fremlin Place\, Avondale\, Auckland\, 
 1026\, New Zealand
END:VEVENT
END:VCALENDAR
