BEGIN:VCALENDAR
VERSION:2.0
PRODID:-//Squarespace Inc/Squarespace 6//v6//EN
BEGIN:VEVENT
UID:588e938eb8a79b901b679d8a@squarespace.com
DTSTAMP:20170130T011702Z
DTSTART:20170207T233000Z
DTEND:20170208T001500Z
SUMMARY:Bounce Fitness Grey Lynn
GEO:-36.86431;174.737559
LOCATION:Bounce Fitness Grey Lynn\, 565 Great North Road\, Grey Lynn\, Auck
 land\, 1021\, New Zealand
END:VEVENT
END:VCALENDAR
