BEGIN:VCALENDAR
VERSION:2.0
PRODID:-//Squarespace Inc/Squarespace 6//v6//EN
BEGIN:VEVENT
UID:588e94e28419c2ec3fe25965@squarespace.com
DTSTAMP:20170130T012225Z
DTSTART:20170209T111500Z
DTEND:20170209T120000Z
SUMMARY:Bounce Fitness Grey Lynn
GEO:-36.86431;174.737559
LOCATION:Uptown Bounce Grey Lynn\, 565 Great North Road\, Grey Lynn\, Auckl
 and\, 1021\, New Zealand
END:VEVENT
END:VCALENDAR
