BEGIN:VCALENDAR
VERSION:2.0
PRODID:-//Squarespace Inc/Squarespace 6//v6//EN
BEGIN:VEVENT
UID:58b8b293c534a55f4a40646c@squarespace.com
DTSTAMP:20170430T022355Z
DTSTART:20170526T210000Z
DTEND:20170526T214500Z
SUMMARY:Bounce Fitness Avondale
GEO:-36.883999;174.675957
LOCATION:Uptown Bounce Avondale\, 52 Fremlin Place\, Auckland\, Auckland\, 
 1026\, New Zealand
END:VEVENT
END:VCALENDAR
