BEGIN:VCALENDAR
VERSION:2.0
PRODID:-//Squarespace Inc/Squarespace 6//v6//EN
BEGIN:VEVENT
UID:58d2dc7e893fc0d3d1cdb7fd@squarespace.com
DTSTAMP:20170327T211047Z
DTSTART:20170326T180000Z
DTEND:20170326T181500Z
SUMMARY:Bounce Fitness Avondale
GEO:-36.883999;174.675957
LOCATION:Uptown Bounce Avondale\, 52 Fremlin Place\, Auckland\, Auckland\, 
 1026\, New Zealand
END:VEVENT
END:VCALENDAR
