BEGIN:VCALENDAR
VERSION:2.0
PRODID:-//Squarespace Inc/Squarespace 6//v6//EN
BEGIN:VEVENT
UID:588e9ccfe4fcb5a6cdcd6f6c@squarespace.com
DTSTAMP:20170130T020246Z
DTSTART:20170228T000000Z
DTEND:20170228T004500Z
SUMMARY:Bounce Fitness Avondale
GEO:-36.883999;174.675957
LOCATION:Uptown Bounce Avondale\, 52 Fremlin Place\, Avondale\, Auckland\, 
 1026\, New Zealand
END:VEVENT
END:VCALENDAR
