BEGIN:VCALENDAR
VERSION:2.0
PRODID:-//Squarespace Inc/Squarespace 6//v6//EN
BEGIN:VEVENT
UID:58d2ddc59de4bbab7ff3f9c7@squarespace.com
DTSTAMP:20170327T211212Z
DTSTART:20170328T053000Z
DTEND:20170328T061500Z
SUMMARY:Bounce Fitness Grey Lynn
GEO:-36.86431;174.737559
LOCATION:Uptown Bounce Grey Lynn\, 565 Great North Road\, Auckland\, Auckla
 nd\, 1021\, New Zealand
END:VEVENT
END:VCALENDAR
