BEGIN:VCALENDAR
VERSION:2.0
PRODID:-//Squarespace Inc/Squarespace 6//v6//EN
BEGIN:VEVENT
UID:58b8a8f0579fb3d0c4d37193@squarespace.com
DTSTAMP:20170430T022131Z
DTSTART:20170519T210000Z
DTEND:20170519T214500Z
SUMMARY:Bounce Fitness Avondale
GEO:-36.883999;174.675957
LOCATION:Uptown Bounce Avondale\, 52 Fremlin PLace\, Avondale\, Auckland\, 
 New Zealand
END:VEVENT
END:VCALENDAR
