BEGIN:VCALENDAR
VERSION:2.0
PRODID:-//Squarespace Inc/Squarespace 6//v6//EN
BEGIN:VEVENT
UID:58b8afeec534a55f4a4041d9@squarespace.com
DTSTAMP:20170430T022230Z
DTSTART:20170524T063000Z
DTEND:20170524T071500Z
SUMMARY:Bounce Fitness Grey Lynn 
GEO:-36.86431;174.737559
LOCATION:Uptown Bounce Grey Lynn\, 565 Great North Road\, Auckland\, Auckla
 nd\, 1021\, New Zealand
END:VEVENT
END:VCALENDAR
