BEGIN:VCALENDAR
VERSION:2.0
PRODID:-//Squarespace Inc/Squarespace 6//v6//EN
BEGIN:VEVENT
UID:58d58f00a5790a257a82578a@squarespace.com
DTSTAMP:20170430T020155Z
DTSTART:20170502T063000Z
DTEND:20170502T071500Z
SUMMARY:Bounce fitness Grey Lynn
GEO:-36.86431;174.737559
LOCATION:Uptown Bounce Grey Lynn\, 565 Great North Road\, Auckland\, Auckla
 nd\, 1021\, New Zealand
END:VEVENT
END:VCALENDAR
