BEGIN:VCALENDAR
VERSION:2.0
PRODID:-//Squarespace Inc/Squarespace 6//v6//EN
BEGIN:VEVENT
UID:58d4906e20099e1b037a6fca@squarespace.com
DTSTAMP:20170430T022901Z
DTSTART:20170531T063000Z
DTEND:20170531T071500Z
SUMMARY:Uptown Bounce Grey Lynn
GEO:-36.86431;174.737559
LOCATION:Uptown Bounce Grey Lynn\, 565 Great North Road\, Auckland\, Auckla
 nd\, 1021\, New Zealand
END:VEVENT
END:VCALENDAR
