BEGIN:VCALENDAR
VERSION:2.0
PRODID:-//Squarespace Inc/Squarespace 6//v6//EN
BEGIN:VEVENT
UID:59c06f3e4c326dc6b61802a1@squarespace.com
DTSTAMP:20170919T022536Z
DTSTART:20171010T053000Z
DTEND:20171010T061500Z
SUMMARY:Fitness Grey Lynn
END:VEVENT
END:VCALENDAR
