BEGIN:VCALENDAR
VERSION:2.0
PRODID:-//Squarespace Inc/Squarespace 6//v6//EN
BEGIN:VEVENT
UID:59c06f6f2994ca04b27358dd@squarespace.com
DTSTAMP:20170919T023252Z
DTSTART:20171011T053000Z
DTEND:20171011T061500Z
SUMMARY:Fitness Grey Lynn
END:VEVENT
END:VCALENDAR
