BEGIN:VCALENDAR
VERSION:2.0
PRODID:-//Squarespace Inc/Squarespace 6//v6//EN
BEGIN:VEVENT
UID:59c06f8fb07869c9d524b921@squarespace.com
DTSTAMP:20170919T023414Z
DTSTART:20171011T171500Z
DTEND:20171011T180000Z
SUMMARY:Fitness Grey Lynn
END:VEVENT
END:VCALENDAR
