BEGIN:VCALENDAR
VERSION:2.0
PRODID:-//Squarespace Inc/Squarespace 6//v6//EN
BEGIN:VEVENT
UID:59c06fb712abd9b17d5d828c@squarespace.com
DTSTAMP:20170919T023440Z
DTSTART:20171013T200000Z
DTEND:20171013T204500Z
SUMMARY:Fitness Avondale
END:VEVENT
END:VCALENDAR
