BEGIN:VCALENDAR
VERSION:2.0
PRODID:-//Squarespace Inc/Squarespace 6//v6//EN
BEGIN:VEVENT
UID:59c0732532601e8291acf5f4@squarespace.com
DTSTAMP:20170919T023511Z
DTSTART:20171016T053000Z
DTEND:20171016T061500Z
SUMMARY:Fitness Wellington
END:VEVENT
END:VCALENDAR
