BEGIN:VCALENDAR
VERSION:2.0
PRODID:-//Squarespace Inc/Squarespace 6//v6//EN
BEGIN:VEVENT
UID:59c07406f43b55e06beb9d00@squarespace.com
DTSTAMP:20170919T023541Z
DTSTART:20171017T053000Z
DTEND:20171017T061500Z
SUMMARY:Fitness Grey Lynn
END:VEVENT
END:VCALENDAR
