BEGIN:VCALENDAR
VERSION:2.0
PRODID:-//Squarespace Inc/Squarespace 6//v6//EN
BEGIN:VEVENT
UID:59c073c18fd4d25037501a3b@squarespace.com
DTSTAMP:20170919T013335Z
DTSTART:20171017T040000Z
DTEND:20171017T050000Z
SUMMARY:Skills Grey Lynn
END:VEVENT
END:VCALENDAR
