BEGIN:VCALENDAR
VERSION:2.0
PRODID:-//Squarespace Inc/Squarespace 6//v6//EN
BEGIN:VEVENT
UID:59c074bb1f318d7ed8ca7e87@squarespace.com
DTSTAMP:20170919T013735Z
DTSTART:20171018T053000Z
DTEND:20171018T063000Z
SUMMARY:Fitness Grey Lynn
END:VEVENT
END:VCALENDAR
