BEGIN:VCALENDAR
VERSION:2.0
PRODID:-//Squarespace Inc/Squarespace 6//v6//EN
BEGIN:VEVENT
UID:59c0776a32601e8291ad284f@squarespace.com
DTSTAMP:20170919T014853Z
DTSTART:20171018T050000Z
DTEND:20171018T060000Z
SUMMARY:Skills Avondale
END:VEVENT
END:VCALENDAR
