BEGIN:VCALENDAR
VERSION:2.0
PRODID:-//Squarespace Inc/Squarespace 6//v6//EN
BEGIN:VEVENT
UID:59c0756629f187fa622b843b@squarespace.com
DTSTAMP:20170919T023606Z
DTSTART:20171018T171500Z
DTEND:20171018T180000Z
SUMMARY:Fitness Grey Lynn
END:VEVENT
END:VCALENDAR
