BEGIN:VCALENDAR
VERSION:2.0
PRODID:-//Squarespace Inc/Squarespace 6//v6//EN
BEGIN:VEVENT
UID:59c077b38dd041031a63f642@squarespace.com
DTSTAMP:20170919T015142Z
DTSTART:20171019T040000Z
DTEND:20171019T050000Z
SUMMARY:Skills Wellington
END:VEVENT
END:VCALENDAR
