BEGIN:VCALENDAR
VERSION:2.0
PRODID:-//Squarespace Inc/Squarespace 6//v6//EN
BEGIN:VEVENT
UID:59c06dd3bce176b2597906d0@squarespace.com
DTSTAMP:20170919T022145Z
DTSTART:20171002T053000Z
DTEND:20171002T061500Z
SUMMARY:Fitness Wellington
END:VEVENT
END:VCALENDAR
