BEGIN:VCALENDAR
VERSION:2.0
PRODID:-//Squarespace Inc/Squarespace 6//v6//EN
BEGIN:VEVENT
UID:59c06ce01f318d7ed8ca1500@squarespace.com
DTSTAMP:20170919T022230Z
DTSTART:20171003T053000Z
DTEND:20171003T061500Z
SUMMARY:Fitness Grey lynn
END:VEVENT
END:VCALENDAR
