BEGIN:VCALENDAR
VERSION:2.0
PRODID:-//Squarespace Inc/Squarespace 6//v6//EN
BEGIN:VEVENT
UID:59c06d20ccc5c5311ec143b1@squarespace.com
DTSTAMP:20170919T022301Z
DTSTART:20171004T053000Z
DTEND:20171004T061500Z
SUMMARY:Fitness Grey Lynn
END:VEVENT
END:VCALENDAR
