BEGIN:VCALENDAR
VERSION:2.0
PRODID:-//Squarespace Inc/Squarespace 6//v6//EN
BEGIN:VEVENT
UID:59c06d49f09ca4d50a116a1c@squarespace.com
DTSTAMP:20170919T022330Z
DTSTART:20171004T171500Z
DTEND:20171004T180000Z
SUMMARY:Fitness Grey Lynn
END:VEVENT
END:VCALENDAR
