BEGIN:VCALENDAR
VERSION:2.0
PRODID:-//Squarespace Inc/Squarespace 6//v6//EN
BEGIN:VEVENT
UID:59c06d7be9bfdf14c2143095@squarespace.com
DTSTAMP:20170919T022426Z
DTSTART:20171006T200000Z
DTEND:20171006T204500Z
SUMMARY:Fitness Avondale
END:VEVENT
END:VCALENDAR
