BEGIN:VCALENDAR
VERSION:2.0
PRODID:-//Squarespace Inc/Squarespace 6//v6//EN
BEGIN:VEVENT
UID:59c06f1a1f318d7ed8ca346e@squarespace.com
DTSTAMP:20170919T022502Z
DTSTART:20171009T053000Z
DTEND:20171009T061500Z
SUMMARY:Fitness Wellington
END:VEVENT
END:VCALENDAR
