BEGIN:VCALENDAR
VERSION:2.0
PRODID:-//Squarespace Inc/Squarespace 6//v6//EN
BEGIN:VEVENT
UID:59c029c18dd041031a5ffddf@squarespace.com
DTSTAMP:20170919T021325Z
DTSTART:20170919T063000Z
DTEND:20170919T071500Z
SUMMARY:Fitness Grey Lynn
END:VEVENT
END:VCALENDAR
