BEGIN:VCALENDAR
VERSION:2.0
PRODID:-//Squarespace Inc/Squarespace 6//v6//EN
BEGIN:VEVENT
UID:59c027fdbebafb2d0de1db47@squarespace.com
DTSTAMP:20170918T201958Z
DTSTART:20170919T050000Z
DTEND:20170919T060000Z
SUMMARY:Skills Grey Lynn
GEO:-36.86431;174.737559
LOCATION:uptown bounce grey lynn\, 565 Great North Road\, Auckland\, Auckla
 nd\, 1021\, New Zealand
END:VEVENT
END:VCALENDAR
