BEGIN:VCALENDAR
VERSION:2.0
PRODID:-//Squarespace Inc/Squarespace 6//v6//EN
BEGIN:VEVENT
UID:59c032598dd041031a6087cb@squarespace.com
DTSTAMP:20170918T205647Z
DTSTART:20170921T050000Z
DTEND:20170921T060000Z
SUMMARY:Skills Wellington
END:VEVENT
END:VCALENDAR
