BEGIN:VCALENDAR
VERSION:2.0
PRODID:-//Squarespace Inc/Squarespace 6//v6//EN
BEGIN:VEVENT
UID:59c07d76e5dd5bf0edd78a40@squarespace.com
DTSTAMP:20170919T021432Z
DTSTART:20170920T063000Z
DTEND:20170920T071500Z
SUMMARY:Fitness Grey Lynn
END:VEVENT
END:VCALENDAR
