BEGIN:VCALENDAR
VERSION:2.0
PRODID:-//Squarespace Inc/Squarespace 6//v6//EN
BEGIN:VEVENT
UID:59c028f903596e1780dc2baa@squarespace.com
DTSTAMP:20170918T202308Z
DTSTART:20170920T060000Z
DTEND:20170920T070000Z
SUMMARY:Skills Avondale
END:VEVENT
END:VCALENDAR
