BEGIN:VCALENDAR
VERSION:2.0
PRODID:-//Squarespace Inc/Squarespace 6//v6//EN
BEGIN:VEVENT
UID:59c343f112abd9cd929275da@squarespace.com
DTSTAMP:20170921T044615Z
DTSTART:20170920T181500Z
DTEND:20170920T190000Z
SUMMARY:Fitness Grey Lynn
END:VEVENT
END:VCALENDAR
