BEGIN:VCALENDAR
VERSION:2.0
PRODID:-//Squarespace Inc/Squarespace 6//v6//EN
BEGIN:VEVENT
UID:59c037c346c3c404b3972df7@squarespace.com
DTSTAMP:20170919T021746Z
DTSTART:20170922T210000Z
DTEND:20170922T214500Z
SUMMARY:Fitness Avondale
END:VEVENT
END:VCALENDAR
