BEGIN:VCALENDAR
VERSION:2.0
PRODID:-//Squarespace Inc/Squarespace 6//v6//EN
BEGIN:VEVENT
UID:59c06e1137c58104c0658a15@squarespace.com
DTSTAMP:20170919T021841Z
DTSTART:20170925T053000Z
DTEND:20170925T061500Z
SUMMARY:Fitness Wellington
END:VEVENT
END:VCALENDAR
