BEGIN:VCALENDAR
VERSION:2.0
PRODID:-//Squarespace Inc/Squarespace 6//v6//EN
BEGIN:VEVENT
UID:59c067f129f187fa622ada0d@squarespace.com
DTSTAMP:20170919T021921Z
DTSTART:20170926T053000Z
DTEND:20170926T061500Z
SUMMARY:Fitness Grey Lynn
END:VEVENT
END:VCALENDAR
